BEGIN:VCALENDAR
VERSION:2.0
PRODID:-//OmniMagnetCalendar//EN
BEGIN:VEVENT
DTSTAMP:20190625T195740Z
STATUS:CONFIRMED
UID:hcbirmingham.clubs.harvard.edu179
DTSTART:20190328T190000Z
DTEND:20190328T210000Z
LOCATION:Greater Birmingham Ministries, 2304 12th Avenue North, Birmingham, AL, 35234,
SUMMARY:Deep Dive: Greater Birmingham Ministries: POSTPONED UNTIL FUTHER NOTICE
DESCRIPTION:Deep Dives are free site visits to selected nonprofit organizations that serve critical socioeconomic needs in Alabama. The CEO describes the work of the organization, its history, challenges, and needs. Tour included. Registration by email is required.
BEGIN:VALARM
TRIGGER:-PT15M
ACTION:DISPLAY
END:VALARM
TRANSP:OPAQUE
END:VEVENT
END:VCALENDAR
